BEGIN:VCALENDAR
VERSION:2.0
PRODID:-//The TVA Retirees Association - ECPv6.15.20//NONSGML v1.0//EN
CALSCALE:GREGORIAN
METHOD:PUBLISH
X-ORIGINAL-URL:https://mytvara.org
X-WR-CALDESC:Events for The TVA Retirees Association
REFRESH-INTERVAL;VALUE=DURATION:PT1H
X-Robots-Tag:noindex
X-PUBLISHED-TTL:PT1H
BEGIN:VTIMEZONE
TZID:UTC
BEGIN:STANDARD
TZOFFSETFROM:+0000
TZOFFSETTO:+0000
TZNAME:UTC
DTSTART:20240101T000000
END:STANDARD
END:VTIMEZONE
BEGIN:VEVENT
DTSTART;VALUE=DATE:20250915
DTEND;VALUE=DATE:20250916
DTSTAMP:20260423T110323
CREATED:20231031T202147Z
LAST-MODIFIED:20250823T204301Z
UID:7179-1757894400-1757980799@mytvara.org
SUMMARY:GALLATIN
DESCRIPTION:Temporarily on Vacation \nPlease contact Blue if you are interested in attending chapter meetings or volunteering for 4-H projects \n 
URL:https://mytvara.org/event/gallatin-2/
LOCATION:Not Scheduled\, TN\, United States
CATEGORIES:GALLATIN
END:VEVENT
END:VCALENDAR