BEGIN:VCALENDAR
VERSION:2.0
PRODID:-//The TVA Retirees Association - ECPv6.15.20//NONSGML v1.0//EN
CALSCALE:GREGORIAN
METHOD:PUBLISH
X-ORIGINAL-URL:https://mytvara.org
X-WR-CALDESC:Events for The TVA Retirees Association
REFRESH-INTERVAL;VALUE=DURATION:PT1H
X-Robots-Tag:noindex
X-PUBLISHED-TTL:PT1H
BEGIN:VTIMEZONE
TZID:UTC
BEGIN:STANDARD
TZOFFSETFROM:+0000
TZOFFSETTO:+0000
TZNAME:UTC
DTSTART:20250101T000000
END:STANDARD
END:VTIMEZONE
BEGIN:VTIMEZONE
TZID:America/New_York
BEGIN:DAYLIGHT
TZOFFSETFROM:-0500
TZOFFSETTO:-0400
TZNAME:EDT
DTSTART:20250309T070000
END:DAYLIGHT
BEGIN:STANDARD
TZOFFSETFROM:-0400
TZOFFSETTO:-0500
TZNAME:EST
DTSTART:20251102T060000
END:STANDARD
BEGIN:DAYLIGHT
TZOFFSETFROM:-0500
TZOFFSETTO:-0400
TZNAME:EDT
DTSTART:20260308T070000
END:DAYLIGHT
BEGIN:STANDARD
TZOFFSETFROM:-0400
TZOFFSETTO:-0500
TZNAME:EST
DTSTART:20261101T060000
END:STANDARD
BEGIN:DAYLIGHT
TZOFFSETFROM:-0500
TZOFFSETTO:-0400
TZNAME:EDT
DTSTART:20270314T070000
END:DAYLIGHT
BEGIN:STANDARD
TZOFFSETFROM:-0400
TZOFFSETTO:-0500
TZNAME:EST
DTSTART:20271107T060000
END:STANDARD
END:VTIMEZONE
BEGIN:VEVENT
DTSTART;TZID=UTC:20260313T110000
DTEND;TZID=UTC:20260313T133000
DTSTAMP:20260423T051009
CREATED:20231031T202046Z
LAST-MODIFIED:20260205T205950Z
UID:7176-1773399600-1773408600@mytvara.org
SUMMARY:CLEVELAND
DESCRIPTION:Program:  Appreciation lunch for TVARA retirees from Cleveland area \n 
URL:https://mytvara.org/event/cleveland-2/
LOCATION:Garden Plaza at Cleveland Assisted Living\, 3500 NW Keith Street\, Cleveland\, TN\, 37312
CATEGORIES:CLEVELAND
END:VEVENT
BEGIN:VEVENT
DTSTART;TZID=UTC:20260317T100000
DTEND;TZID=UTC:20260317T130000
DTSTAMP:20260423T051009
CREATED:20231003T205527Z
LAST-MODIFIED:20260205T210335Z
UID:6906-1773741600-1773752400@mytvara.org
SUMMARY:PADUCAH
DESCRIPTION:Program/Speaker:  To be determined
URL:https://mytvara.org/event/paducah/
LOCATION:Pizza Inn\, 1001 Joe Clifton Drive\, Paducah\, KY\, United States
CATEGORIES:PADUCAH
END:VEVENT
BEGIN:VEVENT
DTSTART;TZID=UTC:20260317T100000
DTEND;TZID=UTC:20260317T133000
DTSTAMP:20260423T051009
CREATED:20230929T002504Z
LAST-MODIFIED:20260205T210224Z
UID:6865-1773741600-1773754200@mytvara.org
SUMMARY:CHATTANOOGA
DESCRIPTION:Meet in the Church Fellowship Hall\, covered entrance on left \n• 10 a.m. — Meet N Greet\, with refreshments\n• 10:30 a.m. — Guest Speaker:  Mark Meigs\, TVARS Executive Secretary
URL:https://mytvara.org/event/chattanooga/
LOCATION:Brainerd United Methodist\, 4315 Brainerd Rd\, Chattanooga\, TN\, 37411\, United States
CATEGORIES:CHATTANOOGA
END:VEVENT
BEGIN:VEVENT
DTSTART;TZID=UTC:20260317T110000
DTEND;TZID=UTC:20260317T130000
DTSTAMP:20260423T051009
CREATED:20231003T204112Z
LAST-MODIFIED:20260205T210432Z
UID:6890-1773745200-1773752400@mytvara.org
SUMMARY:MEMPHIS
DESCRIPTION:Lunch at One & Only (BBQ) \nProgram:  Fill Vacant Chapter Positions
URL:https://mytvara.org/event/memphis/
LOCATION:One & Only (BBQ)\, 6575 Airways Blvd.\, Southaven\, MS\, United States
CATEGORIES:MEMPHIS
END:VEVENT
BEGIN:VEVENT
DTSTART;TZID=UTC:20260318T103000
DTEND;TZID=UTC:20260318T133000
DTSTAMP:20260423T051009
CREATED:20231003T210259Z
LAST-MODIFIED:20260205T210629Z
UID:6916-1773829800-1773840600@mytvara.org
SUMMARY:WESTERN AREA
DESCRIPTION:Meet in the Garden Room \nProgram/Speaker:  Friends of Land Between the Lakes Update\, Elaine Jackson\, LBLA Executive Director \nDoor Prize:  Free lunch in the Kenlake Dining Room \n  \n 
URL:https://mytvara.org/event/western-area/
LOCATION:Kenlake State Resort Park\, 542 Kenlake Road\, Hardin\, 42048\, United States
CATEGORIES:WESTERN AREA
END:VEVENT
BEGIN:VEVENT
DTSTART;TZID=America/New_York:20260325T160000
DTEND;TZID=America/New_York:20260325T180000
DTSTAMP:20260423T051009
CREATED:20240820T222334Z
LAST-MODIFIED:20260205T210902Z
UID:8407-1774454400-1774461600@mytvara.org
SUMMARY:WATTS BAR AREA
DESCRIPTION:Wednesday Wings Night at Nick’s Lakeside Grill \nProgram/Speaker: How and Where to Travel to the Philippines for the Summer of 2026 – Live the Island Life – Ed Couch \nPlease text or email Ed if you plan on attending. \n423-551-1226 or jecttu@gmail.com
URL:https://mytvara.org/event/watts-bar-area/
LOCATION:Nick’s Lakeside Grill\, 2109 New Lake Road\, Spring City\, 37381\, United States
CATEGORIES:WATTS BAR AREA
END:VEVENT
BEGIN:VEVENT
DTSTART;TZID=UTC:20260326T110000
DTEND;TZID=UTC:20260326T140000
DTSTAMP:20260423T051009
CREATED:20231003T210038Z
LAST-MODIFIED:20260205T211223Z
UID:6912-1774522800-1774533600@mytvara.org
SUMMARY:UPPER EAST TENNESSEE
DESCRIPTION:Lunch Meeting \nProgram:  Retirement System Update \nDoor Prizes and Cash Drawing \nLet the restaurant cashier know you are with the TVA retirees’ group as you pay for your meal.  Please bring small bills and plan to leave a tip on the table. \n 
URL:https://mytvara.org/event/upper-east-tennessee/
LOCATION:Golden Corral – Morristown\, 2905 W Andrew Johnson Hwy\, Morristown\, 37814\, United States
CATEGORIES:UPPER EAST TENNESSEE
END:VEVENT
BEGIN:VEVENT
DTSTART;TZID=UTC:20260507T110000
DTEND;TZID=UTC:20260507T140000
DTSTAMP:20260423T051009
CREATED:20240216T231253Z
LAST-MODIFIED:20260422T124339Z
UID:7842-1778151600-1778162400@mytvara.org
SUMMARY:TVARA Board Meeting - May
DESCRIPTION:
URL:https://mytvara.org/event/tvara-board-meeting-may/
LOCATION:SpringHill Suites By Marriott Nashville Brentwood\, 7109 Town Center Way\, Brentwood\, TN\, 37027\, United States
END:VEVENT
BEGIN:VEVENT
DTSTART;TZID=UTC:20260827T110000
DTEND;TZID=UTC:20260827T140000
DTSTAMP:20260423T051009
CREATED:20240216T231557Z
LAST-MODIFIED:20260422T124600Z
UID:7845-1787828400-1787839200@mytvara.org
SUMMARY:TVARA Board Meeting - August
DESCRIPTION:
URL:https://mytvara.org/event/tvara-board-meeting-august/
LOCATION:SpringHill Suites By Marriott Nashville Brentwood\, 7109 Town Center Way\, Brentwood\, TN\, 37027\, United States
END:VEVENT
BEGIN:VEVENT
DTSTART;TZID=UTC:20261119T110000
DTEND;TZID=UTC:20261119T140000
DTSTAMP:20260423T051009
CREATED:20240216T231718Z
LAST-MODIFIED:20260422T124709Z
UID:7847-1795086000-1795096800@mytvara.org
SUMMARY:TVARA Board Meeting - November
DESCRIPTION:
URL:https://mytvara.org/event/tvara-board-meeting-november/
LOCATION:SpringHill Suites By Marriott Nashville Brentwood\, 7109 Town Center Way\, Brentwood\, TN\, 37027\, United States
END:VEVENT
END:VCALENDAR