BEGIN:VCALENDAR
VERSION:2.0
PRODID:-//The TVA Retirees Association - ECPv6.15.20//NONSGML v1.0//EN
CALSCALE:GREGORIAN
METHOD:PUBLISH
X-ORIGINAL-URL:https://mytvara.org
X-WR-CALDESC:Events for The TVA Retirees Association
REFRESH-INTERVAL;VALUE=DURATION:PT1H
X-Robots-Tag:noindex
X-PUBLISHED-TTL:PT1H
BEGIN:VTIMEZONE
TZID:UTC
BEGIN:STANDARD
TZOFFSETFROM:+0000
TZOFFSETTO:+0000
TZNAME:UTC
DTSTART:20250101T000000
END:STANDARD
END:VTIMEZONE
BEGIN:VEVENT
DTSTART;TZID=UTC:20260313T110000
DTEND;TZID=UTC:20260313T133000
DTSTAMP:20260420T043419
CREATED:20231031T202046Z
LAST-MODIFIED:20260205T205950Z
UID:7176-1773399600-1773408600@mytvara.org
SUMMARY:CLEVELAND
DESCRIPTION:Program:  Appreciation lunch for TVARA retirees from Cleveland area \n 
URL:https://mytvara.org/event/cleveland-2/
LOCATION:Garden Plaza at Cleveland Assisted Living\, 3500 NW Keith Street\, Cleveland\, TN\, 37312
CATEGORIES:CLEVELAND
END:VEVENT
END:VCALENDAR